Workbook

Sheet Form2-Kominfo
B1: FORMULIR A2. EVALUASI HASIL RKPD KABUPATEN MAGELANG TAHUN 2016 (CAPAIAN INDIKATOR PROGRAM RPJMD)
B3: No | C3: Kode | F3: Urusan/Bidang Urusan Pemerintahan Daerah dan Program/Kegiatan | H3: Indikator Kinerja Program (Outcome) | J3: Target Akhir RPJMD | K3: Realisasi Capaian Kinerja RPJMD s/d Tahun 2015 | L3: Target Kinerja Tahun 2016 | M3: Realisasi Kinerja Pada Triwulan | Q3: Realisasi Capaian Kinerja RKPD yang Dievaluasi (2016) | R3: Tingkat Capaian Kinerja RKPD Tahun 2016 (%) | S3: Realisasi Kinerja RPJMD Tahun 2016 | T3: Tingkat Capaian Kinerja RPJMD s/d Tahun 2016 (%) | U3: SKPD Penganggung Jawab | V3: Permasalahan
M4: I | N4: II | O4: III | P4: IV
B5: 1 | C5: 2 | F5: 3 | H5: 4 | J5: 5 | K5: 6 | L5: 7 | M5: 8 | N5: 9 | O5: 10 | P5: 11 | Q5: 12=8+9+10+11 | R5: 13=12/7*100 | S5: 14=6+12 | T5: 15=14/5*100 | U5: 16 | V5: 17
C6: 1 | D6: 25 | G6: KOMUNIKASI DAN INFORMATIKA
C7: 1 | D7: 25 | E7: 15 | F7: 1. | G7: Program Pengembangan Komunikasi, Informasi dan Media Massa | H7: a. | I7: Pelaksanaan diseminasi dan pendistribusian informasi nasional melalui media massa seperti majalah, radio, dan televisi** | J7: 19 Jam per hari | K7: 19 Jam per hari | L7: 19 Jam per hari | M7: 19 Jam per hari | N7: 19 Jam per hari | O7: 19 Jam per hari | P7: 19 Jam per hari | Q7: 19 Jam per hari | R7: 1 | S7: 19 Jam per hari | T7: 1 | U7: Diskominfo
H8: b. | I8: Pelaksanaan diseminasi dan pendistribusian informasi nasional melalui media baru seperti website (media online)** | J8: Bandwidth 16 Mbps | K8: Bandwidth 30 Mbps | L8: Bandwidth 16 Mbps | M8: Bandwidth 30 Mbps | N8: Bandwidth 30 Mbps | O8: 20 Mbps global, 30 Mbps domestik | P8: 20 Mbps global, 30 Mbps domestik | Q8: 20 Mbps global, 30 Mbps domestik | R8: 1 | S8: Bandwidth 30 Mbps | T8: =30/16*100% -> 1.875 | U8: Diskominfo
H9: c. | I9: Pelaksanaan diseminasi dan pendistribusian informasi nasional melalui media tradisional seperti pertunjukan rakyat** | J9: 5 Kali Pertunjukan Rakyat | K9: 12 Kali Pertunjukan Rakyat | L9: 5 Kali Pertunjukan Rakyat | M9: 0 | N9: 0 | O9: 5 Kali Pertunjukan Rakyat | P9: 0 | Q9: 5 Kali Pertunjukan Rakyat | R9: 1 | S9: 17 Kali Pertunjukan Rakyat | T9: =17/5*100% -> 3.4 | U9: Diskominfo
H10: d. | I10: Pelaksanaan diseminasi dan pendistribusian informasi nasional melalui media interpersonal seperti sarasehan, ceramah/diskusi dan lokakarya** | J10: 12 Bulan | K10: 12 Bulan | L10: 12 Bulan | M10: 3 Bulan | N10: 3 Bulan | O10: 3 Bulan | P10: 3 Bulan | Q10: 12 Bulan | R10: 1 | S10: 21 Bulan | T10: =21/12*100% -> 1.75 | U10: Diskominfo
H11: e. | I11: Pelaksanaan diseminasi dan pendistribusian informasi nasional melalui media luar ruang seperti media buletin, leaflet, booklet, brosur, spanduk dan baliho** | J11: 12 Kegiatan | K11: 12 Kegiatan | L11: 15 Kegiatan | M11: 0 | N11: 0 | O11: 5 Kegiatan | P11: 10 Kegiatan | Q11: 15 Kegiatan | R11: 1 | S11: 17 Kegiatan | T11: =17/12*100% -> 1.4166667 | U11: Diskominfo
H12: f. | I12: Web site milik pemerintah daerah*** | J12: 8 | K12: 8 | L12: 8 | M12: 8 | N12: 8 | O12: 8 | P12: 8 | Q12: 8 | R12: 1 | S12: 8 | T12: 1 | U12: Bag. Hukum
C13: 1 | D13: 25 | E13: 17 | F13: 2. | G13: Program Fasilitas Peningkatan SDM Bidang Komunikasi dan Informasi | H13: a. | I13: Persentase pegawai diskominfo yang sudah mengikuti pelatihan di bidang informasi dan komunikasi*** | J13: 10 PNS | K13: 6 PNS | L13: 2 PNS | O13: 2 PNS | P13: 0 | Q13: 2 PNS | R13: 1 | U13: Diskominfo
H14: b. | I14: Jumlah peserta yang mengikuti pelatihan bidang kominfo dan kehumasan*** | J14: 605 Peserta | K14: 240 Peserta | L14: 100 Peserta | M14: 0 | N14: 100 Peserta | O14: 0 | P14: 0 | Q14: 100 Peserta | R14: =240/605*100% -> 0.39669421 | S14: 340 Peserta | T14: =340/605*100% -> 0.56198347 | U14: Bag. Humprot
C15: 1 | D15: 25 | E15: 18 | F15: 3. | G15: Program Kerjasama Informasi dengan Mas Media | H15: a. | I15: Cakupan kerjasama dengan mas media*** | J15: 1 | K15: 1 | L15: 1 | M15: 1 | N15: 1 | O15: 1 | P15: 1 | Q15: 1 | R15: 1 | S15: 1 | T15: 1 | U15: Diskominfo
R16: Kota Mungkid, 2016

Sheet EVALUASI RENJA TW 1 2017
A1: FORMULIR A1. Evaluasi Terhadap Hasil Renja SKPD
A2: Dinas Komunikasi dan Informatika Kabupaten Magelang
A3: Periode Pelaksanaan: 2017
A5: Sasaran RKPD yang akan dicapai dalam Renja SKPD : Bidang Komunikasi dan Informatika
A8: No. | B8: Kode | F8: Urusan/Bidang Urusan Pemerintahan Daerah dan Program/Kegiatan | G8: Indikator Kinerja Program (Outcome) / Kegiatan (Output) | H8: Target Renstra SKPD pada Tahun 2019 (Akhir Periode Renstra SKPD) | J8: Realisasi Capaian Kinerja renja SKPD Tahun 2014 | L8: Realisasi Capaian Kinerja Renja SKPD Tahun 2016 | N8: Realisasi Capaian Kinerja Renstra SKPD s/d Renja SKPD Tahun Lalu (2016) | P8: Target Kinerja dan Anggaran Renja SKPD Tahun berjalan yang dievaluasi (2017) | R8: Realisasi Kinerja pada Triwulan | Z8: Realisasi Capaian Kinerja dan Anggaran Renja SKPD yang dievaluasi (2017) | AB8: Tingkat Capaian Kinerja dan Realisasi Anggaran Renja SKPD Tahun 2017 (%) | AD8: Realisasi Kinerja dan Anggaran Renstra SKPD s/d Tahun 2017 (Akhir Tahun Pelaksanaan Renja SKPD Tahun 2017) | AF8: Tingkat Capaian Kinerja dan Realisasi Anggaran Renstra SKPD s/d Tahun 2017 (%) | AH8: Unit SKPD Penanggung jawab | AI8: Ket
R9: I | T9: II | V9: III | X9: IV
A11: 1 | B11: 2 | F11: 3 | G11: 4 | H11: 5 | J11: 6 | L11: 6 | N11: 6 | P11: 7 | R11: 8 | T11: 9 | V11: 10 | X11: 11 | Z11: 12=8+9+10+11 | AB11: 13=12/7X100 | AD11: 14=6+12 | AF11: 15=14/5x100 | AH11: 16 | AI11: 17
H12: K | I12: Rp | J12: K | K12: Rp | L12: K | M12: Rp | N12: K | O12: Rp | P12: K (Renja) | Q12: Rp (APBD) | R12: K | S12: Rp | T12: K | U12: Rp | V12: K | W12: Rp | X12: K | Y12: Rp | Z12: K | AA12: Rp | AB12: k | AC12: Rp | AD12: k | AE12: Rp | AF12: k | AG12: Rp
F13: Urusan Pemerintahan
F14: Bidang Urusan Komunikasi dan Informatika | I14: =SUM(I15,I25,I33,I37,I52,I59,I69) -> 19986268540 | K14: =SUM(K15,K25,K33,K37,K52,K59) -> 2530452300 | M14: =SUM(M15,M25,M33,M37,M52,M59,M69) -> 2935780153 | O14: =SUM(O15,O25,O33,O37,O52,O59,O69) -> 9519718911 | Q14: =SUM(Q15,Q25,Q33,Q37,Q52,Q59,Q69) -> 3387815000 | S14: =SUM(S15,S25,S33,S37,S52,S59,S69) -> 336093649 | U14: =SUM(U15,U25,U33,U37,U52,U59) -> 0 | W14: =SUM(W15,W25,W33,W37,W52,W59) -> 0 | Y14: =SUM(Y15,Y25,Y33,Y37,Y52,Y59) -> 0 | AA14: =SUM(AA15,AA25,AA33,AA37,AA52,AA59,AA69) -> 336093649 | AE14: =SUM(AE15,AE25,AE33,AE37,AE52,AE59) -> 7537102697
A15: 1. | B15: 5. | C15: 2. | D15: 01. | F15: Program pelayanan Administrasi Perkantoran | I15: =SUM(I16:I22) -> 1840500000 | K15: =SUM(K16:K22) -> 243326000 | M15: =SUM(M16:M22) -> 281475916 | O15: =SUM(O16:O22) -> 826602097 | Q15: =SUM(Q16:Q22) -> 362351000 | S15: =SUM(S16:S22) -> 36890692 | U15: =SUM(U16:U22) -> 0 | W15: =SUM(W16:W22) -> 0 | Y15: =SUM(Y16:Y22) -> 0 | AA15: =SUM(Y15,W15,U15,S15) -> 36890692 | AC15: =AA15/Q15*100 -> 10.180927 | AE15: =SUM(AE16:AE22) -> 863492789 | AK15: Sisa/Lebih | AL15: Pengurangan
E16: 01. | F16: Penyediaan Jasa Surat Menyurat | G16: Jumlah Surat Menyurat yang Masuk | H16: 6000 Surat | I16: 181000000 | J16: 1200 Surat | K16: 28450900 | L16: 1200 Surat | M16: 31895200 | N16: 1200 Surat | O16: 83724450 | P16: 1200 Surat | Q16: 27786000 | R16: 300 surat | S16: 1640250 | Z16: 300 surat | AA16: =SUM(Y16,W16,U16,S16) -> 1640250 | AB16: 19 | AC16: =AA16/Q16*100 -> 5.9031527 | AD16: 3900 surat | AE16: =O16+AA16 -> 85364700 | AF16: 0.65 | AG16: =SUM(AE16/I16)*100 -> 47.162818 | AH16: Diskominfo | AK16: =SUM(Q16-#REF!) -> #REF! | AL16: =SUM(#REF!-S16) -> #REF!
E17: 02. | F17: Penyediaan Jasa Komunikasi, Sumber Daya Air dan Listrik | G17: Jumlah Dibayar Biaya Langganan Telepon, Air, Listrik & Surat Kabar/Majalah | H17: 1 Kantor 60 Bulan | I17: 550000000 | J17: 12 Bulan | K17: 65000000 | L17: 12 Bulan | M17: 67180141 | N17: 12 Bulan | O17: 214108299 | P17: 12 Bulan | Q17: 109020000 | R17: 3 bulan | S17: 20779442 | Z17: 3 bulan | AA17: =SUM(Y17,W17,U17,S17) -> 20779442 | AB17: 15 | AC17: =AA17/Q17*100 -> 19.060211 | AD17: 1 Kantor 60 Bulan | AE17: =O17+AA17 -> 234887741 | AF17: 0.65 | AG17: =SUM(AE17/I17)*100 -> 42.706862 | AH17: =AH16 -> Diskominfo | AK17: =SUM(Q17-AA17) -> 88240558 | AL17: =SUM(#REF!-S17) -> #REF!
E18: 07. | F18: Penyediaan Jasa Administrasi Keuangan | G18: Administrasi Keuangan Dapat Tepat Waktu | H18: 60 bulan | I18: 276000000 | J18: 12 Personil | K18: 43892000 | L18: 12 Bulan | M18: 45082000 | N18: 12 Bulan | O18: 141477850 | P18: 12 Bulan | Q18: 49538000 | R18: 3 bulan | S18: 14471000 | Z18: 3 bulan | AA18: =SUM(Y18,W18,U18,S18) -> 14471000 | AB18: 29.22 | AC18: =AA18/Q18*100 -> 29.211918 | AD18: 39 bulan | AE18: =O18+AA18 -> 155948850 | AF18: =39/60 -> 0.65 | AG18: =SUM(AE18/I18)*100 -> 56.503207 | AH18: =AH17 -> Diskominfo | AK18: =SUM(Q18-AA18) -> 35067000 | AL18: =SUM(#REF!-S18) -> #REF!
E19: 08. | F19: Penyediaan Jasa Kebersihan Kantor | G19: Jumlah Kebutuhan Jasa Kebersihan Kantor | H19: 4 Gedung | I19: 33500000 | J19: 4 Gedung | K19: 3628600 | L19: 4 Gedung | M19: 5999700 | N19: 4 Gedung | O19: 16070300 | P19: 4 Gedung | Q19: 7000000 | R19: 4 Gedung | S19: 0 | Z19: 4 Gedung | AA19: =SUM(Y19,W19,U19,S19) -> 0 | AB19: 9 | AC19: =AA19/Q19*100 -> 0 | AD19: 4 Gedung | AE19: =O19+AA19 -> 16070300 | AF19: 0.65 | AG19: =SUM(AE19/I19)*100 -> 47.971045 | AH19: =AH18 -> Diskominfo | AK19: =SUM(Q19-AA19) -> 7000000 | AL19: =SUM(#REF!-S19) -> #REF!
E20: 12. | F20: Penyediaan Komponen Instalasi Listrik/Penerangan Bangunan Kantor | G20: Jumlah Kebutuhan Komponen Instalasi Listrik/Penerangan Bangunan Kantor | H20: 4 Gedung | I20: 33500000 | J20: 4 Gedung | K20: 4360000 | L20: 4 Gedung | M20: 3496500 | N20: 4 Gedung | O20: 12604500 | P20: 4 Gedung | Q20: 4750000 | R20: 4 Gedung | S20: 0 | Z20: 4 Gedung | AA20: =SUM(Y20,W20,U20,S20) -> 0 | AB20: 0 | AC20: =AA20/Q20*100 -> 0 | AD20: 4 Gedung | AE20: =O20+AA20 -> 12604500 | AF20: 0.65 | AG20: =SUM(AE20/I20)*100 -> 37.625373 | AH20: =AH19 -> Diskominfo | AK20: =SUM(Q20-AA20) -> 4750000 | AL20: =SUM(#REF!-S20) -> #REF!
E21: 18. | F21: Rapat-rapat Koordinasi dan Konsultasi ke Luar Daerah | G21: Jumlah Rapat Koordinasi dan Perjalanan Dinas Luar Daerah | H21: 27 Kali | I21: 589500000 | J21: 27 Kali | K21: 73754500 | L21: 28 Kali | M21: 93047375 | N21: 28 Kali | O21: 260707698 | P21: 64 kali | Q21: 111334000 | R21: 7 | S21: 0 | Z21: =SUM(R21,T21,V21,X21) -> 7 | AA21: =SUM(Y21,W21,U21,S21) -> 0 | AB21: 26 | AC21: =AA21/Q21*100 -> 0 | AD21: 27 Kali | AE21: =O21+AA21 -> 260707698 | AF21: 0.65 | AG21: =SUM(AE21/I21)*100 -> 44.225224 | AH21: =AH20 -> Diskominfo | AK21: =SUM(Q21-AA21) -> 111334000 | AL21: =SUM(#REF!-S21) -> #REF!
E22: 19. | F22: Rapat-rapat Koordinasi dan Konsultasi ke Dalam Daerah | G22: Jumlah Rapat Koordinasi dan Perjalanan Dinas Dalam Daerah | H22: 360 Kali | I22: 177000000 | J22: 360 Kali | K22: 24240000 | L22: 504 Kali | M22: 34775000 | N22: 504 Kali | O22: 97909000 | P22: 349 rakor dan kegiatan (348 kali perjalanan dan 1 kegiatan) | Q22: 52923000 | R22: 40 | S22: 0 | Z22: =SUM(R22,T22,V22,X22) -> 40 | AA22: =SUM(Y22,W22,U22,S22) -> 0 | AB22: 11 | AC22: =AA22/Q22*100 -> 0 | AD22: 360 Kali | AE22: =O22+AA22 -> 97909000 | AF22: 0.65 | AG22: =SUM(AE22/I22)*100 -> 55.315819 | AH22: =AH21 -> Diskominfo | AK22: =SUM(Q22-AA22) -> 52923000 | AL22: =SUM(#REF!-S22) -> #REF!
A23: Rata-Rata Capaian Kinerja (%) | AC23: =AVERAGE(AC16:AC22) -> 7.739326 | AG23: =AVERAGE(AG16:AG22) -> 47.358621
A24: Predikat Kinerja | AC24: =IF(AC23<=50,"Sangat Rendah",IF(AC23<=65,"Rendah",IF(AC23<=75,"Sedang",IF(AC23<=90,"Tinggi",IF(AC23<=100,"Sangat Tinggi","Salah"))))) -> Sangat Rendah | AG24: =IF(AG23<=50,"Sangat Rendah",IF(AG23<=65,"Rendah",IF(AG23<=75,"Sedang",IF(AG23<=90,"Tinggi",IF(AG23<=100,"Sangat Tinggi","Salah"))))) -> Sangat Rendah
A25: 2. | B25: 25. | C25: 01. | D25: 02. | F25: Program Peningkatan Sarana Prasarana Aparatur | I25: =SUM(I26:I30) -> 2508340000 | K25: =SUM(K26:K30) -> 566784800 | M25: =SUM(M26:M30) -> 597051065 | O25: =SUM(O26:O30) -> 1943907135 | Q25: =SUM(Q26:Q30) -> 376423000 | S25: =SUM(S26:S30) -> 43335400 | U25: =SUM(U26:U30) -> 0 | W25: =SUM(W26:W30) -> 0 | Y25: =SUM(Y26:Y30) -> 0 | AA25: =SUM(AA26:AA30) -> 43335400 | AC25: =AA25/Q25*100 -> 11.512421 | AE25: =SUM(AE26:AE30) -> 1987242535
E26: 09. | F26: Pengadaan Perlengkapan Gedung/Kantor | G26: Jumlah Peralatan Gedung Kantor yang dibeli | H26: 5 jenis | I26: 622000000 | J26: 4 Jenis | K26: 45000000 | L26: 5 Jenis Peralatan | M26: 309991000 | N26: 5 Jenis Peralatan | O26: 717126740 | P26: 1 Jenis Peralatan | Q26: 7000000 | S26: 0 | Z26: =X26 -> 0 | AA26: =SUM(S26,U26,W26,Y26) -> 0 | AB26: 0 | AC26: =AA26/Q26*100 -> 0 | AE26: =O26+AA26 -> 717126740 | AG26: =SUM(AE26/I26)*100 -> 115.29369 | AH26: =AH19 -> Diskominfo | AK26: =SUM(Q26-AA26) -> 7000000 | AL26: =SUM(#REF!-S26) -> #REF!
E27: 22. | F27: Pemeliharaan Rutin/Berkala Gedung Kantor | G27: Jumlah Gedung Kantor yang dipelihara | H27: 1 Gedung | I27: 300000000 | J27: 11 Jenis Peralatan | K27: 291757800 | L27: 1 Gedung | M27: 7320000 | N27: 1 Gedung | O27: 306397800 | P27: 1 Gedung | Q27: 15866000 | S27: 4950000 | Z27: =V27 -> 0 | AA27: =SUM(S27,U27,W27,Y27) -> 4950000 | AB27: 9 | AC27: =AA27/Q27*100 -> 31.19879 | AE27: =O27+AA27 -> 311347800 | AG27: =SUM(AE27/I27)*100 -> 103.7826 | AH27: =AH26 -> Diskominfo | AK27: =SUM(Q27-AA27) -> 10916000 | AL27: =SUM(#REF!-S27) -> #REF!
E28: 24. | F28: Pemeliharaan Rutin/Berkala Kendaraan Dinas/Opersional | G28: Jumlah Kendaraan Dinas/Operasional yang dipelihara | H28: 3 Roda 4 dan 10 Roda dua | I28: 910320000 | J28: 2 Gedung | K28: 54606000 | L28: 2 Mobil dan 11 Sepeda Motor | M28: 135612565 | N28: 2 Mobil dan 11 Sepeda Motor | O28: 301301095 | P28: 14 kendaraan | Q28: 148964000 | S28: 22695250 | Z28: 3 Roda 4 dan 13 Roda dua | AA28: =SUM(S28,U28,W28,Y28) -> 22695250 | AB28: 17 | AC28: =AA28/Q28*100 -> 15.235392 | AE28: =O28+AA28 -> 323996345 | AG28: =SUM(AE28/I28)*100 -> 35.591478 | AH28: =AH26 -> Diskominfo | AK28: =SUM(Q28-AA28) -> 126268750 | AL28: =SUM(#REF!-S28) -> #REF!
E29: 28. | F29: Pemeliharaan Rutin/Berkala Peralatan Gedung/Kantor | G29: Jumlah Peralatan Gedung Kantor yang dipelihara | H29: 9 Jenis Peralatan gedung | I29: 326020000 | J29: 2 Mobil dan 9 Sepeda Motor | K29: 122411000 | L29: 9 Jenis Peralatan | M29: 47042500 | N29: 9 Jenis Peralatan | O29: 220548500 | P29: 9 Jenis | Q29: 48593000 | S29: 15690150 | Z29: =SUM(R29,T29,V29,X29) -> 0 | AA29: =SUM(S29,U29,W29,Y29) -> 15690150 | AB29: 8 | AC29: =AA29/Q29*100 -> 32.28891 | AE29: =O29+AA29 -> 236238650 | AG29: =SUM(AE29/I29)*100 -> 72.461398 | AH29: =AH27 -> Diskominfo | AK29: =SUM(Q29-AA29) -> 32902850 | AL29: =SUM(#REF!-S29) -> #REF!
E30: 42. | F30: Rehabilitasi Sedang/Berat Rumah Gedung Kantor | G30: Jumlah Gedung Kantor yang akan dfirehab Sedang/Berat | H30: 2 Gedung | I30: 350000000 | J30: 9 Jenis Peralatan | K30: 53010000 | L30: 2 Gedung | M30: 97085000 | N30: 2 Gedung | O30: 398533000 | P30: 1 Gedung | Q30: 156000000 | S30: 0 | Z30: =SUM(R30,T30,V30,X30) -> 0 | AA30: =SUM(S30,U30,W30,Y30) -> 0 | AB30: 0 | AC30: =AA30/Q30*100 -> 0 | AE30: =O30+AA30 -> 398533000 | AG30: =SUM(AE30/I30)*100 -> 113.86657 | AH30: =AH27 -> Diskominfo | AK30: =SUM(Q30-AA30) -> 156000000 | AL30: =SUM(#REF!-S30) -> #REF!
A31: Rata-Rata Capaian Kinerja (%) | AC31: =AVERAGE(AC26:AC30) -> 15.744618 | AG31: =AVERAGE(AG26:AG30) -> 88.199147
A32: Predikat Kinerja | AC32: =IF(AC31<=50,"Sangat Rendah",IF(AC31<=65,"Rendah",IF(AC31<=75,"Sedang",IF(AC31<=90,"Tinggi",IF(AC31<=100,"Sangat Tinggi","Salah"))))) -> Sangat Rendah | AG32: =IF(AG31<=50,"Sangat Rendah",IF(AG31<=65,"Rendah",IF(AG31<=75,"Sedang",IF(AG31<=90,"Tinggi",IF(AG31<=100,"Sangat Tinggi","Salah"))))) -> Tinggi
A33: 3. | B33: 25. | C33: 01. | D33: 06. | F33: Program Peningkatan Pengembangan Sistem Pelaporan Capaian Kinerja dan Keuangan | I33: =SUM(I34) -> 75000000 | K33: =SUM(K34) -> 10000000 | M33: =SUM(M34) -> 9929000 | O33: =SUM(O34) -> 41028830 | P33: =SUM(P34) -> 0 | Q33: =SUM(Q34) -> 22000000 | S33: =SUM(S34) -> 0 | U33: =SUM(U34) -> 0 | W33: =SUM(W34) -> 0 | Y33: =SUM(Y34) -> 0 | AA33: =SUM(AA34) -> 0 | AC33: =AA33/Q33*100 -> 0 | AE33: =SUM(AE34) -> 41028830
E34: 01. | F34: Penyusunan Laporan Capaian Kinerja dan Ikhtisar Realisasi Kinerja SKPD | G34: Jumlah Laporan Capaian Kinerja dan Keuangan | H34: 4 Dokumen | I34: 75000000 | J34: 4 Dokumen | K34: 10000000 | L34: 4 Dokumen | M34: 9929000 | N34: 4 Dokumen | O34: 41028830 | P34: 18 dokumen | Q34: 22000000 | S34: 0 | Z34: 15 | AA34: =SUM(Y34,W34,U34,S34) -> 0 | AB34: 15 | AC34: =AA34/Q34*100 -> 0 | AE34: =O34+AA34 -> 41028830 | AG34: =SUM(AE34/I34)*100 -> 54.705107 | AH34: Diskominfo | AK34: =SUM(Q34-AA34) -> 22000000 | AL34: =SUM(#REF!-S34) -> #REF!
A35: Rata-Rata Capaian Kinerja (%) | AC35: =AVERAGE(AC34) -> 0 | AG35: =AVERAGE(AG34) -> 54.705107
A36: Predikat Kinerja | AC36: =IF(AC35<=50,"Sangat Rendah",IF(AC35<=65,"Rendah",IF(AC35<=75,"Sedang",IF(AC35<=90,"Tinggi",IF(AC35<=100,"Sangat Tinggi","Salah"))))) -> Sangat Rendah | AG36: =IF(AG35<=50,"Sangat Rendah",IF(AG35<=65,"Rendah",IF(AG35<=75,"Sedang",IF(AG35<=90,"Tinggi",IF(AG35<=100,"Sangat Tinggi","Salah"))))) -> Rendah
A37: 4. | B37: 25. | C37: 01. | D37: 15. | F37: Program Pengembangan Komunikasi, Informasi dan Media Massa | I37: =SUM(I38:I44) -> 5749826500 | K37: =SUM(K38:K44) -> 1658341500 | M37: =SUM(M38:M44) -> 847985630 | O37: =SUM(O38:O44) -> 3751182603 | Q37: =SUM(Q38:Q48) -> 1569117000 | S37: =SUM(S38:S48) -> 57432700 | U37: =SUM(U38:U44) -> 0 | W37: =SUM(W38:W44) -> 0 | Y37: =SUM(Y38:Y44) -> 0 | AA37: =SUM(AA38:AA48) -> 57432700 | AC37: =AA37/Q37*100 -> 3.6601923 | AE37: =SUM(AE38:AE44) -> 3806517103
E38: 09. | F38: Langganan Koneksi Jaringan Internet | G38: Koneksi internet lebih baik | H38: 60 Mbps | I38: 2952550000 | K38: =SUM(K39:K61) -> 855170750 | L38: Internet Bandwidth 30 Mbps | M38: 394856290 | N38: Internet Bandwidth 30 Mbps | O38: 1650025823 | P38: Internet Bandwidth 30 Mbps | Q38: 493520000 | S38: 23991400 | Z38: 20 global, 30 domestik | AA38: =SUM(S38,U38,W38,Y38) -> 23991400 | AB38: 30 | AC38: =AA38/Q38*100 -> 4.8612822 | AE38: =O38+AA38 -> 1674017223 | AG38: =SUM(AE38/I38)*100 -> 56.697337 | AH38: Diskominfo | AK38: =SUM(Q38-AA38) -> 469528600 | AL38: =SUM(#REF!-S38) -> #REF!
E39: 10. | F39: Pemeliharaan dan Perbaikan Peralatan Operasional Sarana TIK | G39: Jumlah Peralatan Opersional TIK yang dipelihara | H39: 60 SKPD | I39: 1170576500 | J39: 4 Line Masuk, 8 Line Keluar, 1 Line Faximile, 2 Repeater | K39: 76536550 | L39: 2 Paket | M39: 148266940 | N39: 2 Paket | O39: 467782040 | P39: 60 SKPD | Q39: 240982000 | S39: 4781000 | Z39: 60 SKPD | AA39: =SUM(S39,U39,W39,Y39) -> 4781000 | AB39: 50 | AC39: =AA39/Q39*100 -> 1.9839656 | AE39: =O39+AA39 -> 472563040 | AG39: =SUM(AE39/I39)*100 -> 40.370112 | AH39: Diskominfo | AK39: =SUM(Q39-AA39) -> 236201000 | AL39: =SUM(#REF!-S39) -> #REF!
E40: 15. | F40: Sosialisasi Ketentuan Tentang Cukai Tembakau (DBHCHT) | G40: Pengadaan dan Penayangan Bahan Sosialisasi ttg Cukai Tembakau dlm bentuk Cetak, ILM, Talkshow dan Pentas Seni | H40: 4 Paket (Cetak, ILM, TalkShow, Pentas Seni) | I40: 503650000 | J40: Internet Bandwidth 12 Mbps | K40: 433434000 | L40: 1 Paket | M40: 73650000 | N40: 1 Paket | O40: 651128350 | P40: 3 Paket | Q40: 75000000 | S40: 0 | Z40: 4 paket | AA40: =SUM(S40,U40,W40,Y40) -> 0 | AB40: 0 | AC40: =AA40/Q40*100 -> 0 | AE40: =O40+AA40 -> 651128350 | AG40: =SUM(AE40/I40)*100 -> 129.28191
E41: 22. | F41: Pengendalian dan Pengawasan Menara Telekomunikasi | G41: Jumlah Pengendalian dan Pengawasan Menara Telekomunikasi | H41: 170 Menara | I41: 223050000 | J41: 0 | K41: 0 | L41: 182 Menara Telekomunikasi | M41: 32997800 | N41: 182 Menara Telekomunikasi | O41: 75382700 | P41: 182 Menara | Q41: 41800000 | S41: 0 | Z41: =SUM(R41,T41,V41,X41) -> 0 | AA41: =SUM(S41,U41,W41,Y41) -> 0 | AB41: 0 | AC41: =AA41/Q41*100 -> 0 | AE41: =O41+AA41 -> 75382700 | AG41: =SUM(AE41/I41)*100 -> 33.796324 | AH41: Diskominfo | AK41: =SUM(Q41-AA41) -> 41800000 | AL41: =SUM(#REF!-S41) -> #REF!
E42: 23. | F42: Penarikan Retribusi Pengendalian dan Pengawasan Menara Telekomunikasi | G42: Jumlah Menara dari Provider yang Retribusinya Terpungut | H42: 12 Provider | I42: 150000000 | J42: 13.000 PNS | K42: 131448200 | L42: 114 Menara & 3 provider menara | M42: 22979250 | N42: 114 Menara & 3 provider menara | O42: 154427450 | P42: 182 Menara dan 11 Provider Menara | Q42: 32178000 | S42: 2285000 | Z42: 0 | AA42: =SUM(S42,U42,W42,Y42) -> 2285000 | AB42: 10 | AC42: =AA42/Q42*100 -> 7.101125 | AE42: =O42+AA42 -> 156712450 | AG42: =SUM(AE42/I42)*100 -> 104.47497 | AH42: =AH38 -> Diskominfo
E43: 29. | F43: Peremajaan dan Komputerisasi Jaringan Telepon Setda Kabupaten Magelang | G43: Jumlah Jaringan Telepon Baru (VOIP) di Komplek Setda | H43: 1 Paket | I43: 250000000 | J43: 160 Menara Telekomunikasi | K43: 27000000 | L43: 1 Jaringan | M43: 99960000 | N43: 1 Jaringan | O43: 357230225 | P43: 1 Jaringan | Q43: 60106000 | S43: 0 | Z43: 1 Jaringan | AA43: =SUM(S43,U43,W43,Y43) -> 0 | AB43: 3 | AC43: =AA43/Q43*100 -> 0 | AE43: =O43+AA43 -> 357230225 | AG43: =SUM(AE43/I43)*100 -> 142.89209 | AH43: Diskominfo | AK43: =SUM(Q43-AA43) -> 60106000 | AL43: =SUM(#REF!-S43) -> #REF!
E44: 44. | F44: Pengelolaan dan Pengembangan Jaringan Komunikasi dan Informasi | G44: Jumlah Alat Perangkat/Akses Pelayanan Komunikasi | H44: 4 Line Masuk, 8 Line Keluar, 1 Line Faximile, 2 Repeater | I44: 500000000 | J44: 19 Jam Per Hari | K44: 134752000 | L44: 4 Line Masuk, 8 Line Keluar, 1 Line Faximile, 2 Repeater | M44: 75275350 | N44: 4 Line Masuk, 8 Line Keluar, 1 Line Faximile, 2 Repeater | O44: 395206015 | P44: 4 line masuk ,8 line keluar ,1 line faximile dan 2 repeater | Q44: 116981000 | R44: 4 line masuk ,8 line keluar ,1 line faximile dan 2 repeater | S44: 24277100 | Z44: 4 line masuk ,8 line keluar ,1 line faximile dan 2 repeater | AA44: =SUM(S44,U44,W44,Y44) -> 24277100 | AB44: 11.7 | AC44: =AA44/Q44*100 -> 20.753028 | AE44: =O44+AA44 -> 419483115 | AG44: =SUM(AE44/I44)*100 -> 83.896623 | AH44: Diskominfo
...

Sheet EVALUASI RENJA TW 2 2019
A1: FORMULIR A. Evaluasi Terhadap Hasil Renja PD
A2: Renja PD Dinas Komunikasi dan Informatika Kabupaten Magelang
A3: Tahun 2019
A5: Indikator dan target kinerja SKPD Kab/Kota yang mengacu pada sasaran RKPD:
A6: 1. Meningkatnya Kinerja Penyelenggaraan Tata Pemerintahan yang Baik dan Bersih
A7: 2. Meningkatnya Kualitas Pelayanan Publik Sesuai dengan Standar Mutu Pelayanan yang berorientasi pada terciptanya Kepuasan Masyarakat
A8: No. | C8: Program/Kegiatan | D8: Indikator Kinerja Program (Outcome) / Kegiatan (Output) | E8: Target Renstra PD pada Tahun 2019 (Akhir Periode Renstra SKPD) | G8: Realisasi Capaian Kinerja Renstra SKPD s/d Renja SKPD Tahun Lalu (2018) | I8: Target Kinerja dan Anggaran Renja PD Tahun berjalan yang dievaluasi (2019) | K8: Realisasi Kinerja pada Triwulan | S8: Realisasi Capaian Kinerja dan Anggaran Renja PD yang dievaluasi (2019) | U8: Tingkat Capaian Kinerja dan Realisasi Anggaran Renja PD Tahun 2019 (%) | W8: Realisasi Kinerja dan Anggaran Renstra PD s/d Tahun 2019 (Akhir Tahun Pelaksanaan Renja PD Tahun 2019) | Y8: Tingkat Capaian Kinerja dan Realisasi Anggaran Renstra PD s/d Tahun 2019 (%) | AA8: Unit SKPD Penanggung jawab
B9: Sasaran | K9: I | M9: II | O9: III | Q9: IV
A11: 1 | B11: 2 | C11: 3 | D11: 4 | E11: 5 | G11: 6 | I11: 7 | K11: 8 | M11: 9 | O11: 10 | Q11: 11 | S11: 12=8+9+10+11 | U11: 13=12/7X100% | W11: 14=6+12 | Y11: 15=14/5x100% | AA11: 16
E12: K | F12: Rp | G12: K | H12: Rp | I12: K (Renja) | J12: Rp (APBD) | K12: K | L12: Rp | M12: K | N12: Rp | O12: K | P12: Rp | Q12: K | R12: Rp | S12: K | T12: Rp | U12: K | V12: Rp | W12: K | X12: Rp | Y12: K | Z12: Rp
F14: =SUM(F15,F25,F32,F36,F51,F55,F65,F69) -> 19891371540 | H14: =SUM(H15,H25,H32,H36,H51,H55,H65,H69) -> 21755591424 | J14: =SUM(J15,J25,J32,J36,J51,J55,J65,J69) -> 16203687590 | L14: =SUM(L15,L25,L32,L36,L51,L55,L65,L69) -> 292607428 | N14: =SUM(N15,N25,N32,N36,N51,N55,N65,N69) -> 939958453 | T14: =SUM(T15,T25,T32,T36,T51,T55,T65,T69) -> 1232565881 | X14: =SUM(X15,X25,X32,X36,X51,X55) -> 18415060438
A15: 1. | B15: Meningkatnya Kinerja Penyelenggaraan Tata Pemerintahan yang Baik dan Bersih | C15: Program pelayanan Administrasi Perkantoran | F15: =SUM(F16:F22) -> 1840500000 | H15: 1800581398 | J15: =SUM(J16:J22) -> 391054110 | L15: =SUM(L16:L22) -> 57265228 | N15: =SUM(N16:N22) -> 105016297 | T15: =SUM(T16:T22) -> 162281525 | V15: =T15/J15*100 -> 41.498483 | X15: =SUM(X16:X22) -> 1962862923 | Z15: =X15/F15*100 -> 106.64835 | AC15: Sisa/Lebih | AD15: Pengurangan
C16: Penyediaan Jasa Surat Menyurat | D16: Jumlah Surat Menyurat yang Masuk | E16: 6000 Surat | F16: 181000000 | G16: 3699 surat | H16: 145506225 | I16: 1500 Surat | J16: 34538840 | K16: 300 surat | L16: ='[1]Apr-19(I)'!$Y$21 -> 3842470 | M16: 400 surat | N16: =16615445-L16 -> 12772975 | S16: 700 surat | T16: =SUM(R16,P16,N16,L16) -> 16615445 | U16: =700/1500*100 -> 46.666667 | V16: =T16/J16*100 -> 48.106552 | W16: 4399 surat | X16: =H16+T16 -> 162121670 | Y16: =4399/6000 -> 0.73316667 | Z16: =SUM(X16/F16)*100 -> 89.569983 | AA16: Diskominfo | AC16: =SUM(J16-#REF!) -> #REF! | AD16: =SUM(#REF!-L16) -> #REF!
C17: Penyediaan Jasa Komunikasi, Sumber Daya Air dan Listrik | D17: Jumlah Dibayar Biaya Langganan Telepon, Air, Listrik & Surat Kabar/Majalah | E17: 1 Kantor 60 Bulan | F17: 550000000 | G17: 1 kantor 36 Bulan | H17: 499681520 | I17: 12 Bulan | J17: 135000000 | K17: 3 bulan | L17: ='[1]Apr-19(I)'!$Y$22 -> 19669114 | M17: 3 bulan | N17: =48888251-L17 -> 29219137 | S17: 6 bulan | T17: =SUM(R17,P17,N17,L17) -> 48888251 | U17: =6/12*100 -> 50 | V17: =T17/J17*100 -> 36.213519 | W17: 1 kantor 42 Bulan | X17: =H17+T17 -> 548569771 | Y17: =42/60 -> 0.7 | Z17: =SUM(X17/F17)*100 -> 99.739958 | AA17: =AA16 -> Diskominfo | AC17: =SUM(J17-T17) -> 86111749 | AD17: =SUM(#REF!-L17) -> #REF!
C18: Penyediaan Jasa Administrasi Keuangan | D18: Administrasi Keuangan Dapat Tepat Waktu | E18: 60 bulan | F18: 276000000 | G18: 36 Bulan | H18: 255521025 | I18: 12 Bulan | J18: 65815270 | K18: 3 bulan | L18: ='[1]Apr-19(I)'!$Y$23 -> 8308500 | M18: 3 bulan | N18: =20314470-L18 -> 12005970 | S18: 6 bulan | T18: =SUM(R18,P18,N18,L18) -> 20314470 | U18: =6/12*100 -> 50 | V18: =T18/J18*100 -> 30.865892 | W18: 42 Bulan | X18: =H18+T18 -> 275835495 | Y18: =42/60 -> 0.7 | Z18: =SUM(X18/F18)*100 -> 99.940397 | AA18: =AA17 -> Diskominfo | AC18: =SUM(J18-T18) -> 45500800 | AD18: =SUM(#REF!-L18) -> #REF!
C19: Penyediaan Jasa Kebersihan Kantor | D19: Jumlah Kebutuhan Jasa Kebersihan Kantor | E19: 4 Gedung | F19: 33500000 | G19: 4 Gedung | H19: 30069800 | I19: 4 Gedung | J19: 8000000 | K19: 4 Gedung | L19: ='[1]Apr-19(I)'!$Y$24 -> 1777800 | M19: 4 Gedung | N19: =3612000-L19 -> 1834200 | S19: 4 Gedung | T19: =SUM(R19,P19,N19,L19) -> 3612000 | U19: =4/4*100 -> 100 | V19: =T19/J19*100 -> 45.15 | W19: 4 Gedung | X19: =H19+T19 -> 33681800 | Y19: 1 | Z19: =SUM(X19/F19)*100 -> 100.54269 | AA19: =AA18 -> Diskominfo | AC19: =SUM(J19-T19) -> 4388000 | AD19: =SUM(#REF!-L19) -> #REF!
C20: Penyediaan Komponen Instalasi Listrik/Penerangan Bangunan Kantor | D20: Jumlah Kebutuhan Komponen Instalasi Listrik/Penerangan Bangunan Kantor | E20: 4 Gedung | F20: 33500000 | G20: 4 Gedung | H20: 22353500 | I20: 4 Gedung | J20: 8000000 | K20: 4 Gedung | L20: ='[1]Apr-19(I)'!$Y$25 -> 0 | M20: 4 Gedung | N20: ='[1]Apr-19(I)'!$Y$25 -> 0 | S20: 4 Gedung | T20: =SUM(R20,P20,N20,L20) -> 0 | U20: =4/4*100 -> 100 | V20: =T20/J20*100 -> 0 | W20: 4 Gedung | X20: =H20+T20 -> 22353500 | Y20: 1 | Z20: =SUM(X20/F20)*100 -> 66.726866 | AA20: =AA19 -> Diskominfo | AC20: =SUM(J20-T20) -> 8000000 | AD20: =SUM(#REF!-L20) -> #REF!
C21: Rapat-rapat Koordinasi dan Konsultasi ke Luar Daerah | D21: Jumlah Rapat Koordinasi dan Perjalanan Dinas Luar Daerah | E21: 27 Kali | F21: 589500000 | G21: 155 Kali | H21: 581069828 | I21: 46 kali | J21: 74700000 | K21: 15 kali | L21: ='[1]Apr-19(I)'!$Y$26 -> 15237344 | M21: 15 kali | N21: =34419844-L21 -> 19182500 | S21: 30 kali | T21: =SUM(R21,P21,N21,L21) -> 34419844 | U21: =30/46*100 -> 65.217391 | V21: =T21/J21*100 -> 46.077435 | W21: 185 Kali | X21: =H21+T21 -> 615489672 | Y21: =185/27 -> 6.8518519 | Z21: =SUM(X21/F21)*100 -> 104.40877 | AA21: =AA20 -> Diskominfo | AC21: =SUM(J21-T21) -> 40280156 | AD21: =SUM(#REF!-L21) -> #REF!
C22: Rapat-rapat Koordinasi dan Konsultasi ke Dalam Daerah | D22: Jumlah Rapat Koordinasi dan Perjalanan Dinas Dalam Daerah | E22: 360 Kali | F22: 177000000 | G22: 1.388 Kali | H22: 266379500 | I22: 348 rakor dan 1 kegiatan | J22: 65000000 | K22: 90 kali | L22: ='[1]Apr-19(I)'!$Y$27 -> 8430000 | M22: 90 kali | N22: =38431515-L22 -> 30001515 | S22: 180 kali | T22: =SUM(R22,P22,N22,L22) -> 38431515 | U22: =180/348*100 -> 51.724138 | V22: =T22/J22*100 -> 59.125408 | W22: 1.568 Kali | X22: =H22+T22 -> 304811015 | Y22: =1568/360 -> 4.3555556 | Z22: =SUM(X22/F22)*100 -> 172.20961 | AA22: =AA21 -> Diskominfo | AC22: =SUM(J22-T22) -> 26568485 | AD22: =SUM(#REF!-L22) -> #REF!
A23: Rata-Rata Capaian Kinerja (%) | V23: =AVERAGE(V16:V22) -> 37.934115 | Z23: =AVERAGE(Z16:Z22) -> 104.73404
A24: Predikat Kinerja | V24: =IF(V23<=50,"Sangat Rendah",IF(V23<=65,"Rendah",IF(V23<=75,"Sedang",IF(V23<=90,"Tinggi",IF(V23<=100,"Sangat Tinggi","Salah"))))) -> Sangat Rendah | Z24: =IF(Z23<=50,"Sangat Rendah",IF(Z23<=65,"Rendah",IF(Z23<=75,"Sedang",IF(Z23<=90,"Tinggi",IF(Z23<=100,"Sangat Tinggi","Salah"))))) -> Salah
A25: 2. | C25: Program Peningkatan Sarana Prasarana Aparatur | F25: =SUM(F26:F29) -> 2158340000 | H25: 6269656270 | J25: =SUM(J26:J29) -> 5980533810 | L25: =SUM(L26:L29) -> 42310366 | N25: =SUM(N26:N29) -> 42312456 | T25: =SUM(T26:T29) -> 84622822 | V25: =T25/J25*100 -> 1.414971 | X25: =SUM(X26:X29) -> 6354279092 | Z25: =X25/F25*100 -> 294.40584
C26: Pengadaan Peralatan gedung kantor | D26: Jumlah Peralatan Gedung Kantor yang dibeli | E26: 9 Jenis Peralatan | F26: 622000000 | G26: 35 jenis | H26: 4866794873 | I26: 20 jenis peralatan | J26: 5692450000 | K26: 0 | L26: ='[1]Apr-19(I)'!$Y$30 -> 0 | M26: 0 | N26: ='[1]Apr-19(I)'!$Y$30 -> 0 | S26: 0 | T26: =SUM(L26,N26,P26,R26) -> 0 | U26: 0 | V26: =T26/J26*100 -> 0 | W26: 35 jenis | X26: =H26+T26 -> 4866794873 | Y26: =35/9 -> 3.8888889 | Z26: =SUM(X26/F26)*100 -> 782.44291 | AA26: =AA22 -> Diskominfo
C27: Pemeliharaan Rutin/Berkala Gedung Kantor | D27: Jumlah Gedung Kantor yang dipelihara | E27: 1 Gedung | F27: 300000000 | G27: 4 gedung | H27: 392048800 | I27: 4 Gedung | J27: 35027000 | K27: 4 Gedung | L27: ='[1]Apr-19(I)'!$Y$31 -> 5647500 | M27: 4 Gedung | N27: =9475250-L27 -> 3827750 | S27: 4 Gedung | T27: =SUM(L27,N27,P27,R27) -> 9475250 | U27: =4/4*100 -> 100 | V27: =T27/J27*100 -> 27.051275 | W27: 4 gedung | X27: =H27+T27 -> 401524050 | Y27: =4/1 -> 4 | Z27: =SUM(X27/F27)*100 -> 133.84135 | AA27: =AA26 -> Diskominfo | AC27: =SUM(J27-T27) -> 25551750 | AD27: =SUM(#REF!-L27) -> #REF!
C28: Pemeliharaan Rutin/Berkala Kendaraan Dinas/Opersional | D28: Jumlah Kendaraan Dinas/Operasional yang dipelihara | E28: 3 Roda 4 dan 10 Roda dua | F28: 910320000 | G28: 3 Mobil dan 12 Sepeda Motor | H28: 581038372 | I28: 4 Roda 4 dan 12 Roda dua | J28: 167164150 | K28: 16 kendaraan | L28: ='[1]Apr-19(I)'!$Y$32 -> 21515866 | M28: 16 kendaraan | N28: =44045572-L28 -> 22529706 | S28: 16 kendaraan | T28: =SUM(L28,N28,P28,R28) -> 44045572 | U28: =16/16*100 -> 100 | V28: =T28/J28*100 -> 26.348695 | W28: 3 Mobil dan 12 Sepeda Motor | X28: =H28+T28 -> 625083944 | Y28: =15/13 -> 1.1538462 | Z28: =SUM(X28/F28)*100 -> 68.666397 | AA28: =AA27 -> Diskominfo | AC28: =SUM(J28-T28) -> 123118578 | AD28: =SUM(#REF!-L28) -> #REF!
C29: Pemeliharaan Rutin/Berkala Peralatan Gedung/Kantor | D29: Jumlah Peralatan Gedung Kantor yang dipelihara | E29: 9 Jenis Peralatan gedung | F29: 326020000 | G29: 32 Jenis | H29: 429774225 | I29: 11 Jenis | J29: 85892660 | K29: 3 Jenis | L29: ='[1]Apr-19(I)'!$Y$33 -> 15147000 | M29: 3 Jenis | N29: =31102000-L29 -> 15955000 | S29: 6 Jenis | T29: =SUM(L29,N29,P29,R29) -> 31102000 | U29: =6/11*100 -> 54.545455 | V29: =T29/J29*100 -> 36.210312 | W29: 38 Jenis | X29: =H29+T29 -> 460876225 | Y29: =38/9 -> 4.2222222 | Z29: =SUM(X29/F29)*100 -> 141.3644 | AA29: =AA28 -> Diskominfo | AC29: =SUM(J29-T29) -> 54790660 | AD29: =SUM(#REF!-L29) -> #REF!
A30: Rata-Rata Capaian Kinerja (%) | V30: =AVERAGE(V26:V29) -> 22.40257 | Z30: =AVERAGE(Z26:Z29) -> 281.57876
A31: Predikat Kinerja | V31: =IF(V30<=50,"Sangat Rendah",IF(V30<=65,"Rendah",IF(V30<=75,"Sedang",IF(V30<=90,"Tinggi",IF(V30<=100,"Sangat Tinggi","Salah"))))) -> Sangat Rendah | Z31: =IF(Z30<=50,"Sangat Rendah",IF(Z30<=65,"Rendah",IF(Z30<=75,"Sedang",IF(Z30<=90,"Tinggi",IF(Z30<=100,"Sangat Tinggi","Salah"))))) -> Salah
A32: 3. | C32: Program Peningkatan Pengembangan Sistem Pelaporan Capaian Kinerja dan Keuangan | F32: =SUM(F33) -> 75000000 | H32: 84122330 | I32: =SUM(I33) -> 0 | J32: =SUM(J33) -> 21984860 | L32: =SUM(L33) -> 976965 | N32: =SUM(N33) -> 6256000 | T32: =SUM(T33) -> 7232965 | V32: =T32/J32*100 -> 32.899755 | X32: =SUM(X33) -> 91355295 | Z32: =X32/F32*100 -> 121.80706
C33: Penyusunan Laporan Capaian Kinerja dan Ikhtisar Realisasi Kinerja SKPD | D33: Jumlah Laporan Capaian Kinerja dan Keuangan | E33: 4 Dokumen | F33: 75000000 | G33: 36 dokumen | H33: 84122330 | I33: 18 dokumen | J33: 21984860 | K33: 6 dokumen | L33: ='[1]Apr-19(I)'!$Y$36 -> 976965 | M33: 4 dokumen | N33: =7232965-L33 -> 6256000 | S33: 10 dokumen | T33: =SUM(R33,P33,N33,L33) -> 7232965 | U33: =10/18*100 -> 55.555556 | V33: =T33/J33*100 -> 32.899755 | W33: 46 dokumen | X33: =H33+T33 -> 91355295 | Y33: =46/4 -> 11.5 | Z33: =SUM(X33/F33)*100 -> 121.80706 | AA33: Diskominfo | AC33: =SUM(J33-T33) -> 14751895 | AD33: =SUM(#REF!-L33) -> #REF!
A34: Rata-Rata Capaian Kinerja (%) | V34: =AVERAGE(V33) -> 32.899755 | Z34: =AVERAGE(Z33) -> 121.80706
A35: Predikat Kinerja | V35: =IF(V34<=50,"Sangat Rendah",IF(V34<=65,"Rendah",IF(V34<=75,"Sedang",IF(V34<=90,"Tinggi",IF(V34<=100,"Sangat Tinggi","Salah"))))) -> Sangat Rendah | Z35: =IF(Z34<=50,"Sangat Rendah",IF(Z34<=65,"Rendah",IF(Z34<=75,"Sedang",IF(Z34<=90,"Tinggi",IF(Z34<=100,"Sangat Tinggi","Salah"))))) -> Salah
A36: 4. | B36: Meningkatnya Kualitas Pelayanan Publik Sesuai dengan Standar Mutu Pelayanan yang berorientasi pada terciptanya Kepuasan Masyarakat | C36: Program Pengembangan Komunikasi, Informasi dan Media Massa | F36: =SUM(F39:F47) -> 7158916500 | H36: 8804852556 | J36: =SUM(J37:J48) -> 7277700300 | L36: =SUM(L37:L48) -> 119509355 | N36: =SUM(N37:N48) -> 686995040 | T36: =SUM(T37:T48) -> 806504395 | V36: =T36/J36*100 -> 11.081858 | X36: =SUM(X39:X45) -> 8616467871 | Z36: =X36/F36*100 -> 120.35994
C37: Pengkajian dan Pengembangan Sistem Informasi | E37: 1 aplikasi | G37: 0 | I37: 4 aplikasi | J37: 942312000 | K37: 1 aplikasi | L37: ='[1]Apr-19(I)'!$Y$39 -> 31700000 | M37: 1 aplikasi | N37: =86311000-L37 -> 54611000 | S37: 2 aplikasi | T37: =SUM(R37,P37,N37,L37) -> 86311000 | U37: =2/4*100 -> 50 | V37: =T37/J37*100 -> 9.1594928 | W37: 2 aplikasi | X37: =H37+T37 -> 86311000 | Y37: =2/1 -> 2 | Z37: 100 | AA37: Diskominfo
C38: Pembinaan dan Pengembangan Jaringan Komunikasi dan Media | D38: Jumlah Waktu Pelayanan Informasi | E38: Pelayanan dan Media Sengketa Informasi Publik | F38: 366306000 | G38: Pelayanan informasi & Media Sengketa Informasi Publik | H38: 245905975 | I38: 12 bulan | J38: 186182500 | K38: 3 bulan | L38: ='[1]Apr-19(I)'!$Y$40 -> 0 | M38: 3 bulan | N38: 14061730 | S38: 6 bulan | T38: =SUM(R38,P38,N38,L38) -> 14061730 | U38: =30/260*100 -> 11.538462 | V38: =T38/J38*100 -> 7.5526594 | W38: Pelayanan informasi & Media Sengketa Informasi Publik | X38: =H38+T38 -> 259967705 | Y38: 1 | Z38: =SUM(X38/F38)*100 -> 70.970092 | AA38: Diskominfo
C39: Langganan Koneksi Jaringan Internet | D39: Koneksi internet lebih baik | E39: 60 Mbps | F39: 2952550000 | G39: Internet Bandwidth 250 Mbps | H39: 3815420723 | I39: Internet Bandwidth 320 Mbps + 350 Mbps | J39: 3440000000 | K39: Internet Bandwidth 320 Mbps | L39: ='[1]Apr-19(I)'!$Y$41 -> 35236000 | M39: Internet Bandwidth 320 Mbps | N39: =244092000-L39 -> 208856000 | S39: Internet Bandwidth 320 Mbps | T39: =SUM(R39,P39,N39,L39) -> 244092000 | U39: =320/670*100 -> 47.761194 | V39: =T39/J39*100 -> 7.0956977 | W39: Internet Bandwidth 320 Mbps | X39: =H39+T39 -> 4059512723 | Y39: =320/60 -> 5.3333333 | Z39: =SUM(X39/F39)*100 -> 137.49175 | AA39: Diskominfo | AC39: =SUM(J39-T39) -> 3195908000 | AD39: =SUM(#REF!-L39) -> #REF!
C40: Pemeliharaan dan Perbaikan Peralatan Operasional Sarana TIK | D40: Jumlah Peralatan Operasional TIK yang dipelihara | E40: 60 SKPD | F40: 1170576500 | G40: 60 SKPD | H40: 1193924940 | I40: 60 SKPD | J40: 330000000 | K40: 60 SKPD | L40: ='[1]Apr-19(I)'!$Y$42 -> 16879500 | M40: 60 SKPD | N40: =46274250-L40 -> 29394750 | S40: 60 SKPD | T40: =SUM(R40,P40,N40,L40) -> 46274250 | U40: =60/60*100 -> 100 | V40: =T40/J40*100 -> 14.0225 | W40: 60 SKPD | X40: =H40+T40 -> 1240199190 | Y40: =60/60 -> 1 | Z40: =SUM(X40/F40)*100 -> 105.94773 | AA40: Diskominfo | AC40: =SUM(J40-T40) -> 283725750 | AD40: =SUM(#REF!-L40) -> #REF!
C41: Pengembangan Infrastruktur Jaringan Internet SKPD | D41: Jumlah Infrastruktur Jaringan Internet SKPD yang dihasilkan | E41: 25 Lokasi | F41: 1021020000 | G41: 1 paket | H41: 1051636850 | I41: 2 paket | J41: 1564357000 | K41: 0 | L41: ='[1]Apr-19(I)'!$Y$43 -> 1789400 | M41: 1 | N41: =192805940-L41 -> 191016540 | S41: 1 | T41: =SUM(R41,P41,N41,L41) -> 192805940 | U41: =1/2*100 -> 50 | V41: =T41/J41*100 -> 12.324932 | W41: 1 paket | X41: =H41+T41 -> 1244442790 | Y41: =60/60 -> 1 | Z41: =SUM(X41/F41)*100 -> 121.88231 | AA41: Diskominfo
C42: Pengendalian dan Pengawasan Menara Telekomunikasi | D42: Jumlah Pengendalian dan Pengawasan Menara Telekomunikasi | E42: 170 Menara | F42: 223050000 | G42: 182 Menara Telekomunikasi | H42: 221228575 | I42: 220 Menara | J42: 102500000 | K42: 53 | L42: ='[1]Apr-19(I)'!$Y$44 -> 0 | M42: 53 | N42: ='[1]Apr-19(I)'!$Y$44 -> 0 | S42: 106 | T42: =SUM(R42,P42,N42,L42) -> 0 | U42: =106/220*100 -> 48.181818 | V42: =T42/J42*100 -> 0 | W42: 220 Menara Telekomunikasi | X42: =H42+T42 -> 221228575 | Y42: =220/170 -> 1.2941176 | Z42: =SUM(X42/F42)*100 -> 99.183401 | AA42: Diskominfo | AC42: =SUM(J42-T42) -> 102500000 | AD42: =SUM(#REF!-L42) -> #REF!
C43: Penarikan Retribusi Pengendalian dan Pengawasan Menara Telekomunikasi | D43: Jumlah Menara dan Provider yang Retribusinya Terpungut | E43: 12 Provider | F43: 150000000 | G43: 182 Menara dan 12 Provider Menara | H43: 215875183 | I43: 12 Provider Menara | J43: 45000000 | K43: 0 | L43: ='[1]Apr-19(I)'!$Y$45 -> 0 | M43: 0 | N43: 11671900 | S43: 0 | T43: =SUM(R43,P43,N43,L43) -> 11671900 | U43: 0 | V43: =T43/J43*100 -> 25.937556 | W43: 12 Provider Menara | X43: =H43+T43 -> 227547083 | Y43: =12/12 -> 1 | Z43: =SUM(X43/F43)*100 -> 151.69806 | AA43: =AA39 -> Diskominfo
...

Sheet Capaian Kinerja & Realiss Angg
A1: Secara umum, capaian kinerja sampai dengan triwulan I rata-rata sebesar 26,91 persen atau masih dalam predikat sangat rendah. Hal ini dikarenakan kegiatan belum dilaksanakan secara efektif. Untuk melihat perkembangan capaian kinerja masing-masing kegiatan dapat dilihat pada tabel berikut:
A4: FORM B. CAPAIAN KINERJA DAN REALISASI ANGGARAN RENJA SKPD
A6: EVALUASI CAPAIAN PELAKSANAAN PROGRAM SKPD DINAS KOMUNIKASI DAN INFORMATIKA
A7: TAHUN 2019
A9: KODE | D9: URUSAN / PROGRAM | E9: CAPAIAN KINERJA | G9: ANGGARAN TAHUN 2019 | H9: TARGET ANGGARAN s/d TRIWULAN II TAHUN 2019 | I9: REALISASI ANGGARAN s/d TRIWULAN II TAHUN 2019
E10: % | F10: PREDIKAT KINERJA | I10: SPJ | J10: % | K10: PREDIKAT KINERJA
A11: 1 | D11: 2 | E11: 3 | F11: 4 | G11: 5 | H11: 6 | I11: 7 | J11: 8 = 7/5 | K11: 9
D12: URUSAN PADA SEMUA SKPD | G12: =SUM(G13:G15) -> 6393572780 | H12: =SUM(H13:H15) -> 4639378220 | I12: =SUM(I13:I15) -> 254137312 | J12: =I12/G12*100 -> 3.9748873 | K12: =IF(J12<=50,"Sangat Rendah",IF(J12<=65,"Rendah",IF(J12<=75,"Sedang",IF(J12<=90,"Tinggi",IF(J12<=100,"Sangat Tinggi","Salah"))))) -> Sangat Rendah
A13: 25. | B13: 01. | C13: 01. | D13: Program pelayanan Administrasi Perkantoran | E13: ='EVALUASI RENJA TW 2 2019'!V15 -> 41.498483 | F13: =IF(E13<=50,"Sangat Rendah",IF(E13<=65,"Rendah",IF(E13<=75,"Sedang",IF(E13<=90,"Tinggi",IF(E13<=100,"Sangat Tinggi","Salah"))))) -> Sangat Rendah | G13: ='EVALUASI RENJA TW 2 2019'!J15 -> 391054110 | H13: ='[2]Juli-19'!$V$20 -> 214607300 | I13: ='[2]Juli-19'!$Z$20 -> 162281525 | J13: =I13/G13*100 -> 41.498483 | K13: =IF(J13<=50,"Sangat Rendah",IF(J13<=65,"Rendah",IF(J13<=75,"Sedang",IF(J13<=90,"Tinggi",IF(J13<=100,"Sangat Tinggi","Salah"))))) -> Sangat Rendah
A14: 25. | B14: 01. | C14: 02. | D14: Program Peningkatan Sarana Prasarana Aparatur | E14: ='EVALUASI RENJA TW 2 2019'!V25 -> 1.414971 | F14: =IF(E14<=50,"Sangat Rendah",IF(E14<=65,"Rendah",IF(E14<=75,"Sedang",IF(E14<=90,"Tinggi",IF(E14<=100,"Sangat Tinggi","Salah"))))) -> Sangat Rendah | G14: ='EVALUASI RENJA TW 2 2019'!J25 -> 5980533810 | H14: ='[2]Juli-19'!$V$29 -> 4415557150 | I14: ='[2]Juli-19'!$Z$29 -> 84622822 | J14: =I14/G14*100 -> 1.414971 | K14: =IF(J14<=50,"Sangat Rendah",IF(J14<=65,"Rendah",IF(J14<=75,"Sedang",IF(J14<=90,"Tinggi",IF(J14<=100,"Sangat Tinggi","Salah"))))) -> Sangat Rendah
A15: 25. | B15: 01. | C15: 06. | D15: Program Peningkatan Pengembangan Sistem Pelaporan Capaian Kinerja dan Keuangan | E15: ='EVALUASI RENJA TW 2 2019'!V32 -> 32.899755 | F15: =IF(E15<=50,"Sangat Rendah",IF(E15<=65,"Rendah",IF(E15<=75,"Sedang",IF(E15<=90,"Tinggi",IF(E15<=100,"Sangat Tinggi","Salah"))))) -> Sangat Rendah | G15: ='EVALUASI RENJA TW 2 2019'!J33 -> 21984860 | H15: ='[2]Juli-19'!$V$35 -> 9213770 | I15: ='[2]Juli-19'!$Z$35 -> 7232965 | J15: =I15/G15*100 -> 32.899755 | K15: =IF(J15<=50,"Sangat Rendah",IF(J15<=65,"Rendah",IF(J15<=75,"Sedang",IF(J15<=90,"Tinggi",IF(J15<=100,"Sangat Tinggi","Salah"))))) -> Sangat Rendah
D18: URUSAN KOMUNIKASI DAN INFORMATIKA | G18: =SUM(G19:G21) -> 9311884150 | H18: =SUM(H19:H21) -> 5165811460 | I18: =SUM(I19:I21) -> 958752569 | J18: =I18/G18*100 -> 10.29601 | K18: =IF(J18<=50,"Sangat Rendah",IF(J18<=65,"Rendah",IF(J18<=75,"Sedang",IF(J18<=90,"Tinggi",IF(J18<=100,"Sangat Tinggi","Salah"))))) -> Sangat Rendah
A19: 25. | B19: 01. | C19: 15. | D19: Program Pengembangan Komunikasi, Informasi dan Media Massa | E19: ='EVALUASI RENJA TW 2 2019'!V36 -> 11.081858 | F19: =IF(E19<=50,"Sangat Rendah",IF(E19<=65,"Rendah",IF(E19<=75,"Sedang",IF(E19<=90,"Tinggi",IF(E19<=100,"Sangat Tinggi","Salah"))))) -> Sangat Rendah | G19: ='EVALUASI RENJA TW 2 2019'!J36 -> 7277700300 | H19: ='[2]Juli-19'!$V$38 -> 4114110660 | I19: ='[2]Juli-19'!$Z$38 -> 806504395 | J19: =I19/G19*100 -> 11.081858 | K19: =IF(J19<=50,"Sangat Rendah",IF(J19<=65,"Rendah",IF(J19<=75,"Sedang",IF(J19<=90,"Tinggi",IF(J19<=100,"Sangat Tinggi","Salah"))))) -> Sangat Rendah
A20: 25. | B20: 01. | C20: 17. | D20: Program Fasilitasi Peningkatan SDM Bidang Komunikasi dan Informasi | E20: ='EVALUASI RENJA TW 2 2019'!V51 -> 2.882 | F20: =IF(E20<=50,"Sangat Rendah",IF(E20<=65,"Rendah",IF(E20<=75,"Sedang",IF(E20<=90,"Tinggi",IF(E20<=100,"Sangat Tinggi","Salah"))))) -> Sangat Rendah | G20: ='EVALUASI RENJA TW 2 2019'!J51 -> 125000000 | H20: ='[2]Juli-19'!$V$55 -> 89523700 | I20: ='[2]Juli-19'!$Z$55 -> 3602500 | J20: =I20/G20*100 -> 2.882 | K20: =IF(J20<=50,"Sangat Rendah",IF(J20<=65,"Rendah",IF(J20<=75,"Sedang",IF(J20<=90,"Tinggi",IF(J20<=100,"Sangat Tinggi","Salah"))))) -> Sangat Rendah
A21: 25. | B21: 01. | C21: 18. | D21: Program Kerjasama Informasi Dengan Media Massa | E21: ='EVALUASI RENJA TW 2 2019'!V55 -> 7.7858229 | F21: =IF(E21<=50,"Sangat Rendah",IF(E21<=65,"Rendah",IF(E21<=75,"Sedang",IF(E21<=90,"Tinggi",IF(E21<=100,"Sangat Tinggi","Salah"))))) -> Sangat Rendah | G21: ='EVALUASI RENJA TW 2 2019'!J55 -> 1909183850 | H21: ='[2]Juli-19'!$V$58 -> 962177100 | I21: ='[2]Juli-19'!$Z$58 -> 148645674 | J21: =I21/G21*100 -> 7.7858229 | K21: =IF(J21<=50,"Sangat Rendah",IF(J21<=65,"Rendah",IF(J21<=75,"Sedang",IF(J21<=90,"Tinggi",IF(J21<=100,"Sangat Tinggi","Salah"))))) -> Sangat Rendah
D23: URUSAN STATISTIK | G23: =SUM(G24:G24) -> 480913000 | H23: =SUM(H24:H24) -> 92744400 | I23: =SUM(I24:I24) -> 19158500 | J23: =I23/G23*100 -> 3.9837767 | K23: =IF(J23<=50,"Sangat Rendah",IF(J23<=65,"Rendah",IF(J23<=75,"Sedang",IF(J23<=90,"Tinggi",IF(J23<=100,"Sangat Tinggi","Salah"))))) -> Sangat Rendah
A24: 25. | B24: 01. | C24: 15. | D24: Program Pengembangan Data Informasi / Statistik Daerah | E24: ='EVALUASI RENJA TW 2 2019'!V65 -> 3.9837767 | F24: =IF(E24<=50,"Sangat Rendah",IF(E24<=65,"Rendah",IF(E24<=75,"Sedang",IF(E24<=90,"Tinggi",IF(E24<=100,"Sangat Tinggi","Salah"))))) -> Sangat Rendah | G24: ='EVALUASI RENJA TW 2 2019'!J66 -> 480913000 | H24: ='[2]Juli-19'!$V$53 -> 92744400 | I24: ='[2]Juli-19'!$Z$52 -> 19158500 | J24: =I24/G24*100 -> 3.9837767 | K24: =IF(J24<=50,"Sangat Rendah",IF(J24<=65,"Rendah",IF(J24<=75,"Sedang",IF(J24<=90,"Tinggi",IF(J24<=100,"Sangat Tinggi","Salah"))))) -> Sangat Rendah
D25: URUSAN PERENCANAAN | G25: =SUM(G26:G30) -> 17317660 | H25: =SUM(H26:H26) -> 17017660 | I25: =SUM(I26:I26) -> 517500 | J25: =I25/G25*100 -> 2.988279 | K25: =IF(J25<=50,"Sangat Rendah",IF(J25<=65,"Rendah",IF(J25<=75,"Sedang",IF(J25<=90,"Tinggi",IF(J25<=100,"Sangat Tinggi","Salah"))))) -> Sangat Rendah
A26: 25. | B26: 01. | C26: 21. | D26: Program Perencanaan Pembangunan Daerah | E26: ='EVALUASI RENJA TW 2 2019'!V69 -> 2.988279 | F26: =IF(E26<=50,"Sangat Rendah",IF(E26<=65,"Rendah",IF(E26<=75,"Sedang",IF(E26<=90,"Tinggi",IF(E26<=100,"Sangat Tinggi","Salah"))))) -> Sangat Rendah | G26: ='EVALUASI RENJA TW 2 2019'!J70 -> 17317660 | H26: ='[2]Juli-19'!$V$67 -> 17017660 | I26: ='[2]Juli-19'!$Z$67 -> 517500 | J26: =I26/G26*100 -> 2.988279 | K26: =IF(J26<=50,"Sangat Rendah",IF(J26<=65,"Rendah",IF(J26<=75,"Sedang",IF(J26<=90,"Tinggi",IF(J26<=100,"Sangat Tinggi","Salah"))))) -> Sangat Rendah
D28: TOTAL RATA-RATA | E28: =AVERAGE(E13:E16,E19:E21,E24,E26) -> 13.066868 | F28: =IF(E28<=50,"Sangat Rendah",IF(E28<=65,"Rendah",IF(E28<=75,"Sedang",IF(E28<=90,"Tinggi",IF(E28<=100,"Sangat Tinggi","Salah"))))) -> Sangat Rendah | J28: =AVERAGE(J13:J16,J19:J21,J24,J26) -> 13.066868 | K28: =IF(J28<=50,"Sangat Rendah",IF(J28<=65,"Rendah",IF(J28<=75,"Sedang",IF(J28<=90,"Tinggi",IF(J28<=100,"Sangat Tinggi","Salah"))))) -> Sangat Rendah
H30: Kota Mungkid, Juni 2019

Sheet Sheet1
B3: Evaluasi Terhadap Hasil Renja SKPD Triwulan I Tahun 2017
B5: Urusan/Bidang Urusan Pemerintahan Daerah dan Program/Kegiatan | C5: Indikator Kinerja Program (Outcome) / Kegiatan (Output) | D5: Target Kinerja dan Anggaran Renja SKPD Tahun berjalan yang dievaluasi (2017) | F5: Realisasi Kinerja dan Anggaran Renja SKPD Tahun berjalan yang dievaluasi (2017)
B8: 3 | C8: 4 | D8: 7 | F8: 8
D9: K (Renja) | E9: Rp (APBD) | F9: K (Renja) | G9: Rp
B10: Urusan Pemerintahan
B11: Bidang Urusan Komunikasi dan Informatika | E11: =SUM(E12,E22,E30,E34,E49,E56,E64) -> 3387815000 | G11: =SUM(G12,G22,G30,G34,G49,G56,G64) -> 336093649
B12: Program pelayanan Administrasi Perkantoran | E12: =SUM(E13:E19) -> 362351000 | G12: =SUM(G13:G19) -> 36890692
B13: Penyediaan Jasa Surat Menyurat | C13: Jumlah Surat Menyurat yang Masuk | D13: 1200 Surat | E13: 27786000 | G13: 1640250
B14: Penyediaan Jasa Komunikasi, Sumber Daya Air dan Listrik | C14: Jumlah Dibayar Biaya Langganan Telepon, Air, Listrik & Surat Kabar/Majalah | D14: 12 Bulan | E14: 109020000 | G14: 20779442
B15: Penyediaan Jasa Administrasi Keuangan | C15: Administrasi Keuangan Dapat Tepat Waktu | D15: 12 Bulan | E15: 49538000 | G15: 14471000
B16: Penyediaan Jasa Kebersihan Kantor | C16: Jumlah Kebutuhan Jasa Kebersihan Kantor | D16: 4 Gedung | E16: 7000000 | G16: 0
B17: Penyediaan Komponen Instalasi Listrik/Penerangan Bangunan Kantor | C17: Jumlah Kebutuhan Komponen Instalasi Listrik/Penerangan Bangunan Kantor | D17: 4 Gedung | E17: 4750000 | G17: 0
B18: Rapat-rapat Koordinasi dan Konsultasi ke Luar Daerah | C18: Jumlah Rapat Koordinasi dan Perjalanan Dinas Luar Daerah | D18: 64 kali | E18: 111334000 | G18: 0
B19: Rapat-rapat Koordinasi dan Konsultasi ke Dalam Daerah | C19: Jumlah Rapat Koordinasi dan Perjalanan Dinas Dalam Daerah | D19: 349 rakor dan kegiatan (348 kali perjalanan dan 1 kegiatan) | E19: 52923000 | G19: 0
B22: Program Peningkatan Sarana Prasarana Aparatur | E22: =SUM(E23:E27) -> 376423000 | G22: =SUM(G23:G27) -> 43335400
B23: Pengadaan Perlengkapan Gedung/Kantor | C23: Jumlah Peralatan Gedung Kantor yang dibeli | D23: 1 Jenis Peralatan | E23: 7000000 | G23: 0
B24: Pemeliharaan Rutin/Berkala Gedung Kantor | C24: Jumlah Gedung Kantor yang dipelihara | D24: 1 Gedung | E24: 15866000 | G24: 4950000
B25: Pemeliharaan Rutin/Berkala Kendaraan Dinas/Opersional | C25: Jumlah Kendaraan Dinas/Operasional yang dipelihara | D25: 14 kendaraan | E25: 148964000 | G25: 22695250
B26: Pemeliharaan Rutin/Berkala Peralatan Gedung/Kantor | C26: Jumlah Peralatan Gedung Kantor yang dipelihara | D26: 9 Jenis | E26: 48593000 | G26: 15690150
B27: Rehabilitasi Sedang/Berat Rumah Gedung Kantor | C27: Jumlah Gedung Kantor yang akan dfirehab Sedang/Berat | D27: 1 Gedung | E27: 156000000 | G27: 0
B30: Program Peningkatan Pengembangan Sistem Pelaporan Capaian Kinerja dan Keuangan | D30: =SUM(D31) -> 0 | E30: =SUM(E31) -> 22000000 | G30: =SUM(G31) -> 0
B31: Penyusunan Laporan Capaian Kinerja dan Ikhtisar Realisasi Kinerja SKPD | C31: Jumlah Laporan Capaian Kinerja dan Keuangan | D31: 18 dokumen | E31: 22000000 | G31: 0
B34: Program Pengembangan Komunikasi, Informasi dan Media Massa | E34: =SUM(E35:E45) -> 1569117000 | G34: =SUM(G35:G45) -> 57432700
B35: Langganan Koneksi Jaringan Internet | C35: Koneksi internet lebih baik | D35: Internet Bandwidth 30 Mbps | E35: 493520000 | G35: 23991400
B36: Pemeliharaan dan Perbaikan Peralatan Operasional Sarana TIK | C36: Jumlah Peralatan Opersional TIK yang dipelihara | D36: 60 SKPD | E36: 240982000 | G36: 4781000
B37: Sosialisasi Ketentuan Tentang Cukai Tembakau (DBHCHT) | C37: Pengadaan dan Penayangan Bahan Sosialisasi ttg Cukai Tembakau dlm bentuk Cetak, ILM, Talkshow dan Pentas Seni | D37: 3 Paket | E37: 75000000 | G37: 0
B38: Pengendalian dan Pengawasan Menara Telekomunikasi | C38: Jumlah Pengendalian dan Pengawasan Menara Telekomunikasi | D38: 182 Menara | E38: 41800000 | G38: 0
B39: Penarikan Retribusi Pengendalian dan Pengawasan Menara Telekomunikasi | C39: Jumlah Menara dari Provider yang Retribusinya Terpungut | D39: 182 Menara dan 11 Provider Menara | E39: 32178000 | G39: 2285000
B40: Peremajaan dan Komputerisasi Jaringan Telepon Setda Kabupaten Magelang | C40: Jumlah Jaringan Telepon Baru (VOIP) di Komplek Setda | D40: 1 Jaringan | E40: 60106000 | G40: 0
B41: Pengelolaan dan Pengembangan Jaringan Komunikasi dan Informasi | C41: Jumlah Alat Perangkat/Akses Pelayanan Komunikasi | D41: 4 line masuk ,8 line keluar ,1 line faximile dan 2 repeater | E41: 116981000 | G41: 24277100
B42: Penyusunan Peraturan Perundangan TIK | C42: Jumlah draft raperda yang disusun | D42: 2 naskah | E42: 50000000 | G42: 1798200
B43: Pengembangan dan Pengelolaan Aplikasi Surat Menyurat Kabupaten Magelang | C43: Aplikasi Surat Menyurat Kabupaten magelang | D43: 60 orang | E43: 20000000 | G43: 0
B44: Penyusunan Master Plan Izin Galian Kabel Telekomunikasi di Daerah | C44: Tersusunnya draft dokumen izin galian kabel | D44: 1 dokumen | E44: 43550000 | G44: 0
B45: Pengembangan dan Pengelolaan Absensi Sidik Jari PNS | C45: Aplikasi Absensi Sidik Jari PNS | D45: 12 unit | E45: 395000000 | G45: 300000
B47: =E49+E34+E56 -> 2497041000
B49: Program Fasilitasi Peningkatan SDM Bidang Komunikasi dan Informasi | E49: =SUM(E50:E53) -> 140809000 | G49: =SUM(G50:G53) -> 65176750
B50: Pelatihan SDM dalam Bidang Informasi dan Komunikasi | C50: Jumlah SDM yang mengikuti Pelatihan | D50: 60 orang | E50: 46476000 | G50: 44354250
B51: Pembinaan dan Pengembangan Jaringan Komunikasi dan Media | C51: Jumlah Waktu Pelayanan Informasi | D51: 12 bulan | E51: 41152000 | G51: 1400000
B52: Peningkatan Kapasitas SDM Diskominfo Kabupaten Magelang | C52: Jumlah SDM yang mengikuti Pelatihan | D52: 42 PNS | E52: 28681000 | G52: 19422500
B53: Sosialisasi Internet Sehat | C53: Jumlah peserta tersosialisasi | D53: 216 Peserta | E53: 24500000 | G53: 0
...

Sheet Sheet2
B1: Program dan Kegiatan pada Renstra dan Renja
B4: No | C4: Program dan Kegiatan Tahun 2016 pada Renstra Diskominfo Tahun 2014-2019 | D4: Program dan Kegiatan pada Renja Diskominfo Tahun 2017 | E4: Program dan Kegiatan pada DPA Diskominfo Tahun 2017
B5: 1 | C5: 2 | D5: 3 | E5: 4
B6: 1 | C6: Program Pelayanan Administrasi Perkantoran | D6: Program Pelayanan Administrasi Perkantoran | E6: Program Pelayanan Administrasi Perkantoran
C7: Penyediaan Jasa Surat Menyurat | D7: Penyediaan jasa surat menyurat | E7: Penyediaan jasa surat menyurat
C8: Penyediaan Jasa Komunikasi, Sumberdaya Air dan Listrik | D8: Penyediaan jasa komunikasi, sumber daya air dan listrik | E8: Penyediaan jasa komunikasi, sumber daya air dan listrik
C9: Penyediaan Jasa Administrasi Keuangan | D9: Penyediaan jasa administrasi keuangan | E9: Penyediaan jasa administrasi keuangan
C10: Penyediaan Jasa Kebersihan Kantor | D10: Penyediaan jasa kebersihan kantor | E10: Penyediaan jasa kebersihan kantor
C11: Penyediaan Komponen Instalasi Listrik/ Penerangan bangunan Kantor | D11: Penyediaan komponen instalasi listrik/penerangan bangunan kantor | E11: Penyediaan komponen instalasi listrik/penerangan bangunan kantor
C12: Rapat-rapat Koordinasi dan Konsultasi ke Luar Daerah | D12: Rapat-rapat koordinasi dan konsultasi ke luar daerah | E12: Rapat-rapat koordinasi dan konsultasi ke luar daerah
C13: Rapat-rapat Koordinasi dan Konsultasi Dalam Daerah | D13: Rapat-rapat koordinasi dan konsultasi dalam daerah | E13: Rapat-rapat koordinasi dan konsultasi dalam daerah
B15: 2 | C15: Program Peningkatan Sarana dan Prasarana Kantor | D15: Program Peningkatan Sarana dan Prasarana Kantor | E15: Program Peningkatan Sarana dan Prasarana Kantor
C16: Pengadaan Perlengkapan Gedung Kantor | D16: Pengadaan perlengkapan gedung kantor | E16: Pengadaan perlengkapan gedung kantor
C17: Pengadaan Peralatan Gedung Kantor
C18: Pemeliharaan Rutin/Berkala Gedung Kantor | D18: Pemeliharaan rutin/berkala gedung kantor | E18: Pemeliharaan rutin/berkala gedung kantor
C19: Pemeliharaan Rutin/Berkala Kendaraan Dinas/Operasional | D19: Pemeliharaan rutin/berkala kendaraan dinas/operasional | E19: Pemeliharaan rutin/berkala kendaraan dinas/operasional
C20: Pemeliharaan Rutin/Berkala Peralatan Gedung/Kantor | D20: Pemeliharaan rutin/berkala peralatan gedung kantor | E20: Pemeliharaan rutin/berkala peralatan gedung kantor
C21: Rehabilitasi sedang/ berat gedung kantor | D21: Rehabilitasi Sedang / Berat Gedung Kantor | E21: Rehabilitasi Sedang / Berat Gedung Kantor
B23: 3 | C23: Program Peningkatan Pengembangan Sistem Pelaporan Capaian Kinerja dan Keuangan | D23: Program Peningkatan Pengembangan Sistem Pelaporan Capaian Kinerja dan Keuangan | E23: Program Peningkatan Pengembangan Sistem Pelaporan Capaian Kinerja dan Keuangan
C24: Kegiatan Penyusunan Laporan Capaian Kinerja dan Ikhtisar Realisasi Kinerja SKPD | D24: Penyusunan laporan capaian kinerja dan ikhtisar realisasi kinerja SKPD | E24: Penyusunan laporan capaian kinerja dan ikhtisar realisasi kinerja SKPD
B26: 4 | C26: Program Perencanaan Pembangunan Daerah | D26: Program Perencanaan Pembangunan Daerah | E26: Program Perencanaan Pembangunan Daerah
C27: Kegiatan Penyusunan Renstra / Renja SKPD
B29: 5 | C29: Program Pengembangan Komunikasi, Informasi dan Media Massa | D29: Program Pengembangan Komunikasi, Informasi dan Media Massa | E29: Program Pengembangan Komunikasi, Informasi dan Media Massa
C30: Pendistribusian informasi nasional melalui media luar ruang (SPM)
C31: Sosialisasi Ketentuan di Bidang Cukai Hasil Tembakau (DBHCHT) | D31: Sosialisasi Ketentuan Tentang Cukai Tembakau ( DBHCHT ) | E31: Sosialisasi Ketentuan Tentang Cukai Tembakau ( DBHCHT )
C32: Pembinaan dan Pengembangan Jaringan Komunikasi dan Media
C33: Pencetakan Buku Kompilasi Undang-Undang tentang Keterbukaan Informasi dan Pembuatan Komitmen Pelayanan Informasi
C34: Seleksi Dewan Pengawas dan Dewan Direksi LPPL Radio Gemilang
C35: Pembinaan dan pengembangan jaringan komunikasi dan informasi | D35: Pengelolaan dan Pengembangan Jaringan Komunikasi dan Informasi | E35: Pengelolaan dan Pengembangan Jaringan Komunikasi dan Informasi
C36: Pengendalian dan Pengawasan Menara Telekomunikasi | D36: Pengendalian dan Pengawasan Menara Telekomunikasi | E36: Pengendalian dan Pengawasan Menara Telekomunikasi
C37: Pengadaan Buku Daftar Pejabat di Lingkungan Kab. Magelang
C38: Peremajaan dan Komputerisasi Jaringan Telepon Setda Kab.Magelang | D38: Peremajaan dan Komputerisasi Jaringan Telepon Setda Kabupaten Magelang | E38: Peremajaan dan Komputerisasi Jaringan Telepon Setda Kabupaten Magelang
C39: Pengendalian dan Pengawasan Jasa Titipan atau Pos
C40: Penyusunan Cell Plan dan Cell Audit Menara Telekomunikasi
C41: Penyusunan dan Pengembangan Sistem Informasi Pos dan Telekomunikasi
C42: Penarikan Retribusi Pengendalian dan Pengawasan Menara Telekomunikasi | D42: Penarikan Retribusi Pengendalian dan Pengawasan Menara Telekomunikasi | E42: Penarikan Retribusi Pengendalian dan Pengawasan Menara Telekomunikasi
C43: Pengendalian Izin Galian Kabel Di Daerah | D43: Penyusunan Master Plan Izin Galian Kabel Telekomunikasi di Daerah | E43: Penyusunan Master Plan Izin Galian Kabel Telekomunikasi di Daerah
C44: Fasilitasi Peraturan Perundangan TIK | D44: Penyusunan Peraturan Perundangan TIK | E44: Penyusunan Peraturan Perundangan TIK
C45: Langganan Koneksi Jaringan Internet | D45: Langganan Koneksi Jaringan Internet | E45: Langganan Koneksi Jaringan Internet
C46: Pemeliharaan dan Perbaikan Peralatan Operasional Sarana TIK | D46: Pemeliharaan dan Perbaikan Peralatan Operasional Sarana TIK | E46: Pemeliharaan dan Perbaikan Peralatan Operasional Sarana TIK
...
